BEGIN:VCALENDAR
VERSION:2.0
PRODID:-//Girlington Primary School - ECPv6.15.18//NONSGML v1.0//EN
CALSCALE:GREGORIAN
METHOD:PUBLISH
X-WR-CALNAME:Girlington Primary School
X-ORIGINAL-URL:https://www.girlingtonprimary.co.uk
X-WR-CALDESC:Events for Girlington Primary School
REFRESH-INTERVAL;VALUE=DURATION:PT1H
X-Robots-Tag:noindex
X-PUBLISHED-TTL:PT1H
BEGIN:VTIMEZONE
TZID:UTC
BEGIN:STANDARD
TZOFFSETFROM:+0000
TZOFFSETTO:+0000
TZNAME:UTC
DTSTART:20240101T000000
END:STANDARD
END:VTIMEZONE
BEGIN:VEVENT
DTSTART;VALUE=DATE:20250303
DTEND;VALUE=DATE:20250304
DTSTAMP:20260419T141819
CREATED:20241016T131955Z
LAST-MODIFIED:20250122T135253Z
UID:4766-1740960000-1741046399@www.girlingtonprimary.co.uk
SUMMARY:Year 6 visit to Yorkshire Wildlife Park
DESCRIPTION:
URL:https://www.girlingtonprimary.co.uk/event/year-6-visit-to-yorkshire-wildlife-park/
CATEGORIES:Educational Visits
END:VEVENT
BEGIN:VEVENT
DTSTART;VALUE=DATE:20250303
DTEND;VALUE=DATE:20250308
DTSTAMP:20260419T141819
CREATED:20250205T141728Z
LAST-MODIFIED:20250226T142257Z
UID:5250-1740960000-1741391999@www.girlingtonprimary.co.uk
SUMMARY:World Book Week
DESCRIPTION:
URL:https://www.girlingtonprimary.co.uk/event/world-book-day-2/
CATEGORIES:In School Events/Activities
END:VEVENT
BEGIN:VEVENT
DTSTART;TZID=UTC:20250304T083000
DTEND;TZID=UTC:20250304T090000
DTSTAMP:20260419T141819
CREATED:20250226T142441Z
LAST-MODIFIED:20250226T142617Z
UID:5322-1741077000-1741078800@www.girlingtonprimary.co.uk
SUMMARY:Nursery AM - Parent work showcase
DESCRIPTION:
URL:https://www.girlingtonprimary.co.uk/event/nursery-parent-work-showcase/
CATEGORIES:Early Years Events/Activities/Educational Visits
END:VEVENT
BEGIN:VEVENT
DTSTART;TZID=UTC:20250304T121000
DTEND;TZID=UTC:20250304T124000
DTSTAMP:20260419T141819
CREATED:20250226T142534Z
LAST-MODIFIED:20250226T142554Z
UID:5325-1741090200-1741092000@www.girlingtonprimary.co.uk
SUMMARY:Nursery PM - Parent work showcase
DESCRIPTION:
URL:https://www.girlingtonprimary.co.uk/event/nursery-parent-work-showcase-2/
CATEGORIES:Early Years Events/Activities/Educational Visits
END:VEVENT
BEGIN:VEVENT
DTSTART;VALUE=DATE:20250317
DTEND;VALUE=DATE:20250322
DTSTAMP:20260419T141819
CREATED:20250207T085537Z
LAST-MODIFIED:20250207T085537Z
UID:5277-1742169600-1742601599@www.girlingtonprimary.co.uk
SUMMARY:Sign Language Week
DESCRIPTION:
URL:https://www.girlingtonprimary.co.uk/event/sign-language-week/
CATEGORIES:In School Events/Activities
END:VEVENT
BEGIN:VEVENT
DTSTART;TZID=UTC:20250317T090000
DTEND;TZID=UTC:20250321T120000
DTSTAMP:20260419T141819
CREATED:20250226T142731Z
LAST-MODIFIED:20250226T142755Z
UID:5329-1742202000-1742558400@www.girlingtonprimary.co.uk
SUMMARY:Mock SATs Week
DESCRIPTION:
URL:https://www.girlingtonprimary.co.uk/event/mock-sats-week-2/
CATEGORIES:In School Events/Activities
END:VEVENT
BEGIN:VEVENT
DTSTART;VALUE=DATE:20250327
DTEND;VALUE=DATE:20250328
DTSTAMP:20260419T141819
CREATED:20250226T142857Z
LAST-MODIFIED:20250226T142857Z
UID:5331-1743033600-1743119999@www.girlingtonprimary.co.uk
SUMMARY:Eldwick Primary school visit
DESCRIPTION:
URL:https://www.girlingtonprimary.co.uk/event/eldwick-primary-school-visit/
CATEGORIES:In School Events/Activities
END:VEVENT
BEGIN:VEVENT
DTSTART;VALUE=DATE:20250331
DTEND;VALUE=DATE:20250401
DTSTAMP:20260419T141819
CREATED:20240710T132808Z
LAST-MODIFIED:20240710T132808Z
UID:4502-1743379200-1743465599@www.girlingtonprimary.co.uk
SUMMARY:Eid
DESCRIPTION:
URL:https://www.girlingtonprimary.co.uk/event/eid/
CATEGORIES:School Holidays
END:VEVENT
END:VCALENDAR