BEGIN:VCALENDAR
VERSION:2.0
PRODID:-//Girlington Primary School - ECPv6.15.18//NONSGML v1.0//EN
CALSCALE:GREGORIAN
METHOD:PUBLISH
X-WR-CALNAME:Girlington Primary School
X-ORIGINAL-URL:https://www.girlingtonprimary.co.uk
X-WR-CALDESC:Events for Girlington Primary School
REFRESH-INTERVAL;VALUE=DURATION:PT1H
X-Robots-Tag:noindex
X-PUBLISHED-TTL:PT1H
BEGIN:VTIMEZONE
TZID:UTC
BEGIN:STANDARD
TZOFFSETFROM:+0000
TZOFFSETTO:+0000
TZNAME:UTC
DTSTART:20230101T000000
END:STANDARD
END:VTIMEZONE
BEGIN:VEVENT
DTSTART;VALUE=DATE:20240304
DTEND;VALUE=DATE:20240309
DTSTAMP:20260420T094831
CREATED:20230906T132023Z
LAST-MODIFIED:20230906T132023Z
UID:3322-1709510400-1709942399@www.girlingtonprimary.co.uk
SUMMARY:Year 5 Residential\, Ingleborough Hall
DESCRIPTION:
URL:https://www.girlingtonprimary.co.uk/event/year-5-residential-ingleborough-hall/
CATEGORIES:Educational Visits
END:VEVENT
BEGIN:VEVENT
DTSTART;VALUE=DATE:20240304
DTEND;VALUE=DATE:20240309
DTSTAMP:20260420T094831
CREATED:20240227T143840Z
LAST-MODIFIED:20240228T141034Z
UID:4031-1709510400-1709942399@www.girlingtonprimary.co.uk
SUMMARY:World Book Week
DESCRIPTION:
URL:https://www.girlingtonprimary.co.uk/event/world-book-day-2024/
CATEGORIES:In School Events/Activities
END:VEVENT
BEGIN:VEVENT
DTSTART;TZID=UTC:20240304T140000
DTEND;TZID=UTC:20240304T180000
DTSTAMP:20260420T094831
CREATED:20240228T140116Z
LAST-MODIFIED:20240228T140116Z
UID:4035-1709560800-1709575200@www.girlingtonprimary.co.uk
SUMMARY:West Park Community Consultation
DESCRIPTION:Girlington Community Centre\nGirlington Road BD8 9NN \nFind out more information about the planned installation of outdoor gym equipment and the refurbishment of the play park.\nFor more information Tel: 01274432597 Email:BradfordWestInfo@bradford.gov.uk
URL:https://www.girlingtonprimary.co.uk/event/west-park-community-consultation/
CATEGORIES:Community Events
END:VEVENT
BEGIN:VEVENT
DTSTART;TZID=UTC:20240304T143000
DTEND;TZID=UTC:20240304T150000
DTSTAMP:20260420T094831
CREATED:20240228T141716Z
LAST-MODIFIED:20240228T141716Z
UID:4040-1709562600-1709564400@www.girlingtonprimary.co.uk
SUMMARY:Year 1 - Parent Reading Session
DESCRIPTION:
URL:https://www.girlingtonprimary.co.uk/event/year-1-parent-reading-session/
CATEGORIES:In School Events/Activities
END:VEVENT
BEGIN:VEVENT
DTSTART;TZID=UTC:20240305T084000
DTEND;TZID=UTC:20240305T092000
DTSTAMP:20260420T094831
CREATED:20240228T141758Z
LAST-MODIFIED:20240228T141758Z
UID:4042-1709628000-1709630400@www.girlingtonprimary.co.uk
SUMMARY:Year 6 - Parent Reading Session
DESCRIPTION:
URL:https://www.girlingtonprimary.co.uk/event/year-6-parent-reading-session/
CATEGORIES:In School Events/Activities
END:VEVENT
BEGIN:VEVENT
DTSTART;TZID=UTC:20240306T090000
DTEND;TZID=UTC:20240306T110000
DTSTAMP:20260420T094831
CREATED:20231019T104114Z
LAST-MODIFIED:20231019T104114Z
UID:3645-1709715600-1709722800@www.girlingtonprimary.co.uk
SUMMARY:The School Nurse Drop-in service at Farcliffe Children and Family centre
DESCRIPTION:We can support around the following:  \n\nHealthy eating \nHealthy lifestyle\nHealthy relationships \nNighttime bedwetting \nFeelings of sadness\, worries or anger \nChanges to the body and growing up Sleep……and much more
URL:https://www.girlingtonprimary.co.uk/event/the-school-nurse-drop-in-service-at-farcliffe-children-and-family-centre-5/
CATEGORIES:Community Events
END:VEVENT
BEGIN:VEVENT
DTSTART;TZID=UTC:20240306T142000
DTEND;TZID=UTC:20240306T150000
DTSTAMP:20260420T094831
CREATED:20240228T141836Z
LAST-MODIFIED:20240228T141836Z
UID:4044-1709734800-1709737200@www.girlingtonprimary.co.uk
SUMMARY:Year 2 - Parent Reading Session
DESCRIPTION:
URL:https://www.girlingtonprimary.co.uk/event/year-2-parent-reading-session/
CATEGORIES:In School Events/Activities
END:VEVENT
BEGIN:VEVENT
DTSTART;VALUE=DATE:20240307
DTEND;VALUE=DATE:20240308
DTSTAMP:20260420T094831
CREATED:20240124T141019Z
LAST-MODIFIED:20240124T141019Z
UID:3921-1709769600-1709855999@www.girlingtonprimary.co.uk
SUMMARY:World Book Day
DESCRIPTION:
URL:https://www.girlingtonprimary.co.uk/event/world-book-day/
CATEGORIES:In School Events/Activities
END:VEVENT
BEGIN:VEVENT
DTSTART;TZID=UTC:20240307T090000
DTEND;TZID=UTC:20240307T093000
DTSTAMP:20260420T094831
CREATED:20240228T141904Z
LAST-MODIFIED:20240228T142532Z
UID:4046-1709802000-1709803800@www.girlingtonprimary.co.uk
SUMMARY:Year 3 - Parent Reading Session
DESCRIPTION:
URL:https://www.girlingtonprimary.co.uk/event/year-3-parent-reading-session/
CATEGORIES:In School Events/Activities
END:VEVENT
BEGIN:VEVENT
DTSTART;TZID=UTC:20240307T110000
DTEND;TZID=UTC:20240307T114500
DTSTAMP:20260420T094831
CREATED:20240228T142053Z
LAST-MODIFIED:20240228T142359Z
UID:4050-1709809200-1709811900@www.girlingtonprimary.co.uk
SUMMARY:Year 4 - Water Safety Presentation
DESCRIPTION:Year 4 – Parent Reading Session
URL:https://www.girlingtonprimary.co.uk/event/year-4-water-safety-presentation/
CATEGORIES:In School Events/Activities
END:VEVENT
BEGIN:VEVENT
DTSTART;TZID=UTC:20240308T084000
DTEND;TZID=UTC:20240308T090000
DTSTAMP:20260420T094831
CREATED:20240228T141943Z
LAST-MODIFIED:20240228T142447Z
UID:4048-1709887200-1709888400@www.girlingtonprimary.co.uk
SUMMARY:Year 4 - Parent Reading Session
DESCRIPTION:
URL:https://www.girlingtonprimary.co.uk/event/year-4-parent-reading-session/
CATEGORIES:In School Events/Activities
END:VEVENT
BEGIN:VEVENT
DTSTART;TZID=UTC:20240308T142000
DTEND;TZID=UTC:20240308T150000
DTSTAMP:20260420T094831
CREATED:20240228T143609Z
LAST-MODIFIED:20240228T143609Z
UID:4056-1709907600-1709910000@www.girlingtonprimary.co.uk
SUMMARY:Reception - Parent Reading Session
DESCRIPTION:
URL:https://www.girlingtonprimary.co.uk/event/reception-parent-reading-session/
CATEGORIES:In School Events/Activities
END:VEVENT
BEGIN:VEVENT
DTSTART;VALUE=DATE:20240311
DTEND;VALUE=DATE:20240312
DTSTAMP:20260420T094831
CREATED:20231011T131724Z
LAST-MODIFIED:20231011T131724Z
UID:3583-1710115200-1710201599@www.girlingtonprimary.co.uk
SUMMARY:Eldwick Primary School visiting Year 3
DESCRIPTION:
URL:https://www.girlingtonprimary.co.uk/event/eldwick-primary-school-visiting-year-3/
CATEGORIES:In School Events/Activities
END:VEVENT
BEGIN:VEVENT
DTSTART;TZID=UTC:20240312T013000
DTEND;TZID=UTC:20240312T143000
DTSTAMP:20260420T094831
CREATED:20240207T142157Z
LAST-MODIFIED:20240207T142157Z
UID:3975-1710207000-1710253800@www.girlingtonprimary.co.uk
SUMMARY:Year 4 Linking Project
DESCRIPTION:Britannia Care Home
URL:https://www.girlingtonprimary.co.uk/event/year-4-linking-project-2/
CATEGORIES:Educational Visits
END:VEVENT
BEGIN:VEVENT
DTSTART;VALUE=DATE:20240318
DTEND;VALUE=DATE:20240322
DTSTAMP:20260420T094831
CREATED:20240313T143942Z
LAST-MODIFIED:20240313T144055Z
UID:4103-1710720000-1711065599@www.girlingtonprimary.co.uk
SUMMARY:Mock SATs Week
DESCRIPTION:Free breakfast available for all Year 6 pupils\, from 8:15am till 8:40am in the small hall.
URL:https://www.girlingtonprimary.co.uk/event/mock-sats-week/
CATEGORIES:In School Events/Activities
END:VEVENT
BEGIN:VEVENT
DTSTART;TZID=UTC:20240319T150000
DTEND;TZID=UTC:20240319T213000
DTSTAMP:20260420T094831
CREATED:20240228T143152Z
LAST-MODIFIED:20240228T143733Z
UID:4052-1710860400-1710883800@www.girlingtonprimary.co.uk
SUMMARY:RP trip -  St.George's Hall
DESCRIPTION:
URL:https://www.girlingtonprimary.co.uk/event/rp-trip-st-georges-hall/
CATEGORIES:Educational Visits
END:VEVENT
BEGIN:VEVENT
DTSTART;TZID=UTC:20240319T183000
DTEND;TZID=UTC:20240319T213000
DTSTAMP:20260420T094831
CREATED:20240228T143438Z
LAST-MODIFIED:20240228T143457Z
UID:4054-1710873000-1710883800@www.girlingtonprimary.co.uk
SUMMARY:Year 5 trip - St. George's Hall
DESCRIPTION:Rehearsal – 1pm – 2.30pm
URL:https://www.girlingtonprimary.co.uk/event/year-5-trip-st-georges-hall/
CATEGORIES:Educational Visits
END:VEVENT
BEGIN:VEVENT
DTSTART;VALUE=DATE:20240325
DTEND;VALUE=DATE:20240406
DTSTAMP:20260420T094831
CREATED:20230228T081340Z
LAST-MODIFIED:20230228T081340Z
UID:1840-1711324800-1712361599@www.girlingtonprimary.co.uk
SUMMARY:Easter holidays (25th March - 5th April 2024)
DESCRIPTION:School re-opens Monday 8th April 2024
URL:https://www.girlingtonprimary.co.uk/event/easter-holidays-25th-march-5th-april-2024/
CATEGORIES:School Holidays
END:VEVENT
END:VCALENDAR