BEGIN:VCALENDAR
VERSION:2.0
PRODID:-//Girlington Primary School - ECPv6.15.18//NONSGML v1.0//EN
CALSCALE:GREGORIAN
METHOD:PUBLISH
X-ORIGINAL-URL:https://www.girlingtonprimary.co.uk
X-WR-CALDESC:Events for Girlington Primary School
REFRESH-INTERVAL;VALUE=DURATION:PT1H
X-Robots-Tag:noindex
X-PUBLISHED-TTL:PT1H
BEGIN:VTIMEZONE
TZID:UTC
BEGIN:STANDARD
TZOFFSETFROM:+0000
TZOFFSETTO:+0000
TZNAME:UTC
DTSTART:20220101T000000
END:STANDARD
END:VTIMEZONE
BEGIN:VEVENT
DTSTART;VALUE=DATE:20231218
DTEND;VALUE=DATE:20240102
DTSTAMP:20260420T130842
CREATED:20230227T121328Z
LAST-MODIFIED:20230227T121328Z
UID:1816-1702857600-1704153599@www.girlingtonprimary.co.uk
SUMMARY:Christmas holidays (18th December 2023 - Monday 1st January 2024)
DESCRIPTION:School re-opens Tuesday 2nd January 2024
URL:https://www.girlingtonprimary.co.uk/event/christmas-holidays-18th-december-2023-monday-1st-january-2024/
CATEGORIES:School Holidays
END:VEVENT
BEGIN:VEVENT
DTSTART;TZID=UTC:20240103T090000
DTEND;TZID=UTC:20240103T110000
DTSTAMP:20260420T130842
CREATED:20231019T103537Z
LAST-MODIFIED:20231019T103537Z
UID:3641-1704272400-1704279600@www.girlingtonprimary.co.uk
SUMMARY:The School Nurse Drop-in service at Farcliffe Children and Family centre
DESCRIPTION:We can support around the following:  \n\nHealthy eating \nHealthy lifestyle\nHealthy relationships \nNighttime bedwetting \nFeelings of sadness\, worries or anger \nChanges to the body and growing up Sleep……and much more
URL:https://www.girlingtonprimary.co.uk/event/the-school-nurse-drop-in-service-at-farcliffe-children-and-family-centre-3/
CATEGORIES:Community Events
END:VEVENT
BEGIN:VEVENT
DTSTART;TZID=UTC:20240110T150000
DTEND;TZID=UTC:20240110T180000
DTSTAMP:20260420T130842
CREATED:20240103T122349Z
LAST-MODIFIED:20240103T122349Z
UID:3868-1704898800-1704909600@www.girlingtonprimary.co.uk
SUMMARY:Parents Evening
DESCRIPTION:
URL:https://www.girlingtonprimary.co.uk/event/parents-evening-2/
CATEGORIES:In School Events/Activities
END:VEVENT
BEGIN:VEVENT
DTSTART;TZID=UTC:20240116T090000
DTEND;TZID=UTC:20240116T113000
DTSTAMP:20260420T130842
CREATED:20231101T141124Z
LAST-MODIFIED:20231101T141124Z
UID:3672-1705395600-1705404600@www.girlingtonprimary.co.uk
SUMMARY:Fluoride Varnish Team visiting Early Years Centre
DESCRIPTION:
URL:https://www.girlingtonprimary.co.uk/event/fluoride-varnish-team-visiting-early-years-centre/
CATEGORIES:Early Years Events/Activities/Educational Visits
END:VEVENT
BEGIN:VEVENT
DTSTART;TZID=UTC:20240118T151500
DTEND;TZID=UTC:20240118T154500
DTSTAMP:20260420T130842
CREATED:20240104T101856Z
LAST-MODIFIED:20240104T101941Z
UID:3874-1705590900-1705592700@www.girlingtonprimary.co.uk
SUMMARY:Parents Meeting for Ingleborough Hall
DESCRIPTION:
URL:https://www.girlingtonprimary.co.uk/event/parents-meeting-for-ingleborough-hall/
CATEGORIES:In School Events/Activities
END:VEVENT
BEGIN:VEVENT
DTSTART;TZID=UTC:20240129T150000
DTEND;TZID=UTC:20240201T153000
DTSTAMP:20260420T130842
CREATED:20240104T101758Z
LAST-MODIFIED:20240104T101758Z
UID:3872-1706540400-1706801400@www.girlingtonprimary.co.uk
SUMMARY:Book Fair
DESCRIPTION:
URL:https://www.girlingtonprimary.co.uk/event/book-fair/
CATEGORIES:In School Events/Activities
END:VEVENT
END:VCALENDAR