BEGIN:VCALENDAR
VERSION:2.0
PRODID:-//Girlington Primary School - ECPv6.15.18//NONSGML v1.0//EN
CALSCALE:GREGORIAN
METHOD:PUBLISH
X-ORIGINAL-URL:https://www.girlingtonprimary.co.uk
X-WR-CALDESC:Events for Girlington Primary School
REFRESH-INTERVAL;VALUE=DURATION:PT1H
X-Robots-Tag:noindex
X-PUBLISHED-TTL:PT1H
BEGIN:VTIMEZONE
TZID:UTC
BEGIN:STANDARD
TZOFFSETFROM:+0000
TZOFFSETTO:+0000
TZNAME:UTC
DTSTART:20220101T000000
END:STANDARD
END:VTIMEZONE
BEGIN:VEVENT
DTSTART;VALUE=DATE:20231206
DTEND;VALUE=DATE:20231207
DTSTAMP:20260420T144249
CREATED:20231101T143037Z
LAST-MODIFIED:20231101T143037Z
UID:3678-1701820800-1701907199@www.girlingtonprimary.co.uk
SUMMARY:NHS Flu Vaccinations
DESCRIPTION:Why get your child vaccinated?\nIt helps keep your child safe from flu. Flu can be a nasty illness and sometimes causes serious problems such as a chest infection which can develop into pneumonia. It is a quick and simple nose spray. Giving your child the flu spray will stop the spread. This will help keep friends and family safe. Older people and those with illnesses are most at risk if they catch flu from children. \nThe flu vaccination is free for your child. Flu viruses change\, so even if they had it last year\, they need it again this year.www.nhs.uk/child-flu has more information and tells you which children need the flu jab instead of the nose spray. \nThe nasal spray contains porcine/pork gelatine\, is there an alternative? \nYes\, we offer a flu injectable vaccine that DOES NOT contain pork gelatine (otherwise known as porcine gelatine). To consent to flu injectable\, click no to the nasal flu vaccine and you will be given further options.  \nWe do not give the alternative flu injectable vaccine in primary school sessions. To receive the flu injection for children in reception to year 6 you must contact us on 01274 221269 to arrange a Clinic Appointment. \nHow do you let us know you want your child to have the flu vaccination?\nPlease fill in one online consent form for each child\, click on the following link: www.bradfordschoolimmunisations.co.uk/forms/flu \nThe code for your child’s school is BF107293\nPlease fill it in as soon as you can to ensure your child gets vaccinated. Even if you do not want your child to be vaccinated\, please complete the form to let us know. We are due to visit your child’s school on Wednesday 6th December \, access to the link will close 3 days before the session.
URL:https://www.girlingtonprimary.co.uk/event/nhs-flu-vaccinations/
CATEGORIES:In School Events/Activities
END:VEVENT
BEGIN:VEVENT
DTSTART;VALUE=DATE:20231206
DTEND;VALUE=DATE:20231207
DTSTAMP:20260420T144249
CREATED:20231129T141932Z
LAST-MODIFIED:20231129T141932Z
UID:3804-1701820800-1701907199@www.girlingtonprimary.co.uk
SUMMARY:No Pens Day
DESCRIPTION:
URL:https://www.girlingtonprimary.co.uk/event/no-pens-day/
END:VEVENT
BEGIN:VEVENT
DTSTART;TZID=UTC:20231206T090000
DTEND;TZID=UTC:20231206T110000
DTSTAMP:20260420T144249
CREATED:20231019T103500Z
LAST-MODIFIED:20231019T103500Z
UID:3639-1701853200-1701860400@www.girlingtonprimary.co.uk
SUMMARY:The School Nurse Drop-in service at Farcliffe Children and Family centre
DESCRIPTION:We can support around the following:  \n\nHealthy eating \nHealthy lifestyle\nHealthy relationships \nNighttime bedwetting \nFeelings of sadness\, worries or anger \nChanges to the body and growing up Sleep……and much more
URL:https://www.girlingtonprimary.co.uk/event/the-school-nurse-drop-in-service-at-farcliffe-children-and-family-centre-2/
CATEGORIES:Community Events
END:VEVENT
BEGIN:VEVENT
DTSTART;TZID=UTC:20231206T090000
DTEND;TZID=UTC:20231206T113000
DTSTAMP:20260420T144249
CREATED:20231129T142759Z
LAST-MODIFIED:20231129T142804Z
UID:3806-1701853200-1701862200@www.girlingtonprimary.co.uk
SUMMARY:NHS Flu Vaccination
DESCRIPTION:
URL:https://www.girlingtonprimary.co.uk/event/nhs-flu-vaccination/
CATEGORIES:In School Events/Activities
END:VEVENT
BEGIN:VEVENT
DTSTART;TZID=UTC:20231207T111500
DTEND;TZID=UTC:20231207T114000
DTSTAMP:20260420T144249
CREATED:20231102T143556Z
LAST-MODIFIED:20231102T143952Z
UID:3687-1701947700-1701949200@www.girlingtonprimary.co.uk
SUMMARY:Nursery Parent Showcase
DESCRIPTION:
URL:https://www.girlingtonprimary.co.uk/event/nursery-parent-showcase/
CATEGORIES:Early Years Events/Activities/Educational Visits
END:VEVENT
BEGIN:VEVENT
DTSTART;TZID=UTC:20231207T143000
DTEND;TZID=UTC:20231207T153000
DTSTAMP:20260420T144249
CREATED:20231102T144040Z
LAST-MODIFIED:20231102T144040Z
UID:3689-1701959400-1701963000@www.girlingtonprimary.co.uk
SUMMARY:Nursery Parent Showcase
DESCRIPTION:
URL:https://www.girlingtonprimary.co.uk/event/nursery-parent-showcase-2/
CATEGORIES:Early Years Events/Activities/Educational Visits
END:VEVENT
BEGIN:VEVENT
DTSTART;TZID=UTC:20231208T153000
DTEND;TZID=UTC:20231208T163000
DTSTAMP:20260420T144249
CREATED:20231129T141651Z
LAST-MODIFIED:20231129T142033Z
UID:3797-1702049400-1702053000@www.girlingtonprimary.co.uk
SUMMARY:RP- Christmas lights at BRI
DESCRIPTION:
URL:https://www.girlingtonprimary.co.uk/event/rp-christmas-lights-at-bri/
CATEGORIES:Educational Visits
END:VEVENT
BEGIN:VEVENT
DTSTART;TZID=UTC:20231211T090000
DTEND;TZID=UTC:20231211T100000
DTSTAMP:20260420T144249
CREATED:20231122T141248Z
LAST-MODIFIED:20231122T141248Z
UID:3778-1702285200-1702288800@www.girlingtonprimary.co.uk
SUMMARY:Well Being Café
DESCRIPTION:
URL:https://www.girlingtonprimary.co.uk/event/well-being-cafe/
CATEGORIES:In School Events/Activities
END:VEVENT
BEGIN:VEVENT
DTSTART;TZID=UTC:20231212T144000
DTEND;TZID=UTC:20231212T150000
DTSTAMP:20260420T144249
CREATED:20231129T141804Z
LAST-MODIFIED:20231129T141804Z
UID:3799-1702392000-1702393200@www.girlingtonprimary.co.uk
SUMMARY:Year 1 - Parent Showcase
DESCRIPTION:
URL:https://www.girlingtonprimary.co.uk/event/year-1-parent-showcase-3/
CATEGORIES:In School Events/Activities
END:VEVENT
BEGIN:VEVENT
DTSTART;TZID=UTC:20231213T120000
DTEND;TZID=UTC:20231213T133000
DTSTAMP:20260420T144249
CREATED:20231101T141000Z
LAST-MODIFIED:20231101T141000Z
UID:3670-1702468800-1702474200@www.girlingtonprimary.co.uk
SUMMARY:School Christmas dinner
DESCRIPTION:
URL:https://www.girlingtonprimary.co.uk/event/school-christmas-dinner/
CATEGORIES:In School Events/Activities
END:VEVENT
BEGIN:VEVENT
DTSTART;TZID=UTC:20231214T133000
DTEND;TZID=UTC:20231214T163000
DTSTAMP:20260420T144249
CREATED:20230906T132136Z
LAST-MODIFIED:20230906T132136Z
UID:3324-1702560600-1702571400@www.girlingtonprimary.co.uk
SUMMARY:RP visit Alhambra
DESCRIPTION:Cinderella Pantomime
URL:https://www.girlingtonprimary.co.uk/event/rp-visit-alhambra/
CATEGORIES:Educational Visits
END:VEVENT
BEGIN:VEVENT
DTSTART;TZID=UTC:20231214T143000
DTEND;TZID=UTC:20231214T150000
DTSTAMP:20260420T144249
CREATED:20231213T143217Z
LAST-MODIFIED:20231213T143231Z
UID:3858-1702564200-1702566000@www.girlingtonprimary.co.uk
SUMMARY:Year 2 - Parent Showcase
DESCRIPTION:
URL:https://www.girlingtonprimary.co.uk/event/year-2-parent-showcase-3/
CATEGORIES:In School Events/Activities
END:VEVENT
BEGIN:VEVENT
DTSTART;TZID=UTC:20231214T144000
DTEND;TZID=UTC:20231214T150000
DTSTAMP:20260420T144249
CREATED:20231129T141851Z
LAST-MODIFIED:20231129T141851Z
UID:3801-1702564800-1702566000@www.girlingtonprimary.co.uk
SUMMARY:Year 2 - Parent Showcase
DESCRIPTION:
URL:https://www.girlingtonprimary.co.uk/event/year-2-parent-showcase/
CATEGORIES:In School Events/Activities
END:VEVENT
BEGIN:VEVENT
DTSTART;VALUE=DATE:20231218
DTEND;VALUE=DATE:20240102
DTSTAMP:20260420T144249
CREATED:20230227T121328Z
LAST-MODIFIED:20230227T121328Z
UID:1816-1702857600-1704153599@www.girlingtonprimary.co.uk
SUMMARY:Christmas holidays (18th December 2023 - Monday 1st January 2024)
DESCRIPTION:School re-opens Tuesday 2nd January 2024
URL:https://www.girlingtonprimary.co.uk/event/christmas-holidays-18th-december-2023-monday-1st-january-2024/
CATEGORIES:School Holidays
END:VEVENT
END:VCALENDAR