BEGIN:VCALENDAR
VERSION:2.0
PRODID:-//Girlington Primary School - ECPv6.15.18//NONSGML v1.0//EN
CALSCALE:GREGORIAN
METHOD:PUBLISH
X-ORIGINAL-URL:https://www.girlingtonprimary.co.uk
X-WR-CALDESC:Events for Girlington Primary School
REFRESH-INTERVAL;VALUE=DURATION:PT1H
X-Robots-Tag:noindex
X-PUBLISHED-TTL:PT1H
BEGIN:VTIMEZONE
TZID:UTC
BEGIN:STANDARD
TZOFFSETFROM:+0000
TZOFFSETTO:+0000
TZNAME:UTC
DTSTART:20220101T000000
END:STANDARD
END:VTIMEZONE
BEGIN:VEVENT
DTSTART;TZID=UTC:20231004T143500
DTEND;TZID=UTC:20231004T150000
DTSTAMP:20260420T174904
CREATED:20230925T130358Z
LAST-MODIFIED:20230925T130358Z
UID:3445-1696430100-1696431600@www.girlingtonprimary.co.uk
SUMMARY:Nursery Parent Storytime Session
DESCRIPTION:
URL:https://www.girlingtonprimary.co.uk/event/nursery-parent-storytime-session-2/
CATEGORIES:Early Years Events/Activities/Educational Visits
END:VEVENT
BEGIN:VEVENT
DTSTART;TZID=UTC:20231006T143000
DTEND;TZID=UTC:20231006T150000
DTSTAMP:20260420T174904
CREATED:20231004T125154Z
LAST-MODIFIED:20231004T125154Z
UID:3477-1696602600-1696604400@www.girlingtonprimary.co.uk
SUMMARY:Year 1 Parents meeting
DESCRIPTION:
URL:https://www.girlingtonprimary.co.uk/event/year-1-parents-meeting/
CATEGORIES:In School Events/Activities
END:VEVENT
BEGIN:VEVENT
DTSTART;TZID=UTC:20231011T095000
DTEND;TZID=UTC:20231011T095000
DTSTAMP:20260420T174904
CREATED:20231004T125454Z
LAST-MODIFIED:20231004T125454Z
UID:3479-1697017800-1697017800@www.girlingtonprimary.co.uk
SUMMARY:Year 2 - local visit
DESCRIPTION:St Philip’s Church
URL:https://www.girlingtonprimary.co.uk/event/year-2-local-visit/
CATEGORIES:Educational Visits
END:VEVENT
BEGIN:VEVENT
DTSTART;VALUE=DATE:20231012
DTEND;VALUE=DATE:20231013
DTSTAMP:20260420T174904
CREATED:20230906T132232Z
LAST-MODIFIED:20230906T132232Z
UID:3326-1697068800-1697155199@www.girlingtonprimary.co.uk
SUMMARY:Year 3 History Day
DESCRIPTION:Stone Age
URL:https://www.girlingtonprimary.co.uk/event/year-3-history-day/
CATEGORIES:In School Events/Activities
END:VEVENT
BEGIN:VEVENT
DTSTART;TZID=UTC:20231012T143000
DTEND;TZID=UTC:20231012T150000
DTSTAMP:20260420T174904
CREATED:20231011T132657Z
LAST-MODIFIED:20231011T132657Z
UID:3596-1697121000-1697122800@www.girlingtonprimary.co.uk
SUMMARY:Year 2 -  Parent showcase
DESCRIPTION:
URL:https://www.girlingtonprimary.co.uk/event/year-2-parent-showcase-2/
CATEGORIES:In School Events/Activities
END:VEVENT
BEGIN:VEVENT
DTSTART;TZID=UTC:20231016T090000
DTEND;TZID=UTC:20231016T100000
DTSTAMP:20260420T174904
CREATED:20231011T132047Z
LAST-MODIFIED:20231011T132047Z
UID:3591-1697446800-1697450400@www.girlingtonprimary.co.uk
SUMMARY:Wellbeing Cafe for parents
DESCRIPTION:
URL:https://www.girlingtonprimary.co.uk/event/wellbeing-cafe-for-parents/
CATEGORIES:In School Events/Activities
END:VEVENT
BEGIN:VEVENT
DTSTART;TZID=UTC:20231016T143000
DTEND;TZID=UTC:20231016T150000
DTSTAMP:20260420T174904
CREATED:20231012T102525Z
LAST-MODIFIED:20231012T102525Z
UID:3608-1697466600-1697468400@www.girlingtonprimary.co.uk
SUMMARY:Year 4 - Parent showcase
DESCRIPTION:
URL:https://www.girlingtonprimary.co.uk/event/year-4-parent-showcase-2/
CATEGORIES:In School Events/Activities
END:VEVENT
BEGIN:VEVENT
DTSTART;VALUE=DATE:20231018
DTEND;VALUE=DATE:20231019
DTSTAMP:20260420T174904
CREATED:20230912T160353Z
LAST-MODIFIED:20230912T160353Z
UID:3411-1697587200-1697673599@www.girlingtonprimary.co.uk
SUMMARY:Year 1 - St Ives Estate
DESCRIPTION:
URL:https://www.girlingtonprimary.co.uk/event/year-1-st-ives-estate/
CATEGORIES:Educational Visits
END:VEVENT
BEGIN:VEVENT
DTSTART;TZID=UTC:20231018T141500
DTEND;TZID=UTC:20231018T150000
DTSTAMP:20260420T174904
CREATED:20231012T102614Z
LAST-MODIFIED:20231012T114648Z
UID:3610-1697638500-1697641200@www.girlingtonprimary.co.uk
SUMMARY:Reception - Parent showcase
DESCRIPTION:
URL:https://www.girlingtonprimary.co.uk/event/reception-parent-showcase-2/
CATEGORIES:In School Events/Activities
END:VEVENT
BEGIN:VEVENT
DTSTART;VALUE=DATE:20231019
DTEND;VALUE=DATE:20231020
DTSTAMP:20260420T174904
CREATED:20230906T132627Z
LAST-MODIFIED:20230906T132627Z
UID:3328-1697673600-1697759999@www.girlingtonprimary.co.uk
SUMMARY:Year 4 History Day
DESCRIPTION:Saxons / Vikings
URL:https://www.girlingtonprimary.co.uk/event/year-4-history-day/
CATEGORIES:In School Events/Activities
END:VEVENT
BEGIN:VEVENT
DTSTART;TZID=UTC:20231020T144000
DTEND;TZID=UTC:20231020T150000
DTSTAMP:20260420T174904
CREATED:20231011T132900Z
LAST-MODIFIED:20231011T132900Z
UID:3598-1697812800-1697814000@www.girlingtonprimary.co.uk
SUMMARY:Year 1 - Parent Showcase
DESCRIPTION:
URL:https://www.girlingtonprimary.co.uk/event/year-1-parent-showcase-2/
CATEGORIES:In School Events/Activities
END:VEVENT
BEGIN:VEVENT
DTSTART;VALUE=DATE:20231023
DTEND;VALUE=DATE:20231028
DTSTAMP:20260420T174904
CREATED:20230227T121013Z
LAST-MODIFIED:20230227T121126Z
UID:1814-1698019200-1698451199@www.girlingtonprimary.co.uk
SUMMARY:Half term holidays (23rd October - 27th October 2023)
DESCRIPTION:School re-opens Monday 30th October 2023
URL:https://www.girlingtonprimary.co.uk/event/half-term-holidays-23rd-october-27th-october-2023/
CATEGORIES:School Holidays
END:VEVENT
BEGIN:VEVENT
DTSTART;TZID=UTC:20231023T120000
DTEND;TZID=UTC:20231023T150000
DTSTAMP:20260420T174904
CREATED:20231019T095424Z
LAST-MODIFIED:20231019T095424Z
UID:3623-1698062400-1698073200@www.girlingtonprimary.co.uk
SUMMARY:Fun Day - Girlington Community Centre
DESCRIPTION:Come and join in at the Family Fun day \nThere will be: \n\nGames\nFree Activities\nPrizes etc
URL:https://www.girlingtonprimary.co.uk/event/fun-day-girlington-community-centre/
CATEGORIES:Community Events
END:VEVENT
END:VCALENDAR