BEGIN:VCALENDAR
VERSION:2.0
PRODID:-//Girlington Primary School - ECPv6.15.18//NONSGML v1.0//EN
CALSCALE:GREGORIAN
METHOD:PUBLISH
X-WR-CALNAME:Girlington Primary School
X-ORIGINAL-URL:https://www.girlingtonprimary.co.uk
X-WR-CALDESC:Events for Girlington Primary School
REFRESH-INTERVAL;VALUE=DURATION:PT1H
X-Robots-Tag:noindex
X-PUBLISHED-TTL:PT1H
BEGIN:VTIMEZONE
TZID:UTC
BEGIN:STANDARD
TZOFFSETFROM:+0000
TZOFFSETTO:+0000
TZNAME:UTC
DTSTART:20240101T000000
END:STANDARD
END:VTIMEZONE
BEGIN:VEVENT
DTSTART;VALUE=DATE:20250721
DTEND;VALUE=DATE:20250903
DTSTAMP:20260421T182819
CREATED:20240710T133257Z
LAST-MODIFIED:20250123T121259Z
UID:4510-1753056000-1756857599@www.girlingtonprimary.co.uk
SUMMARY:Summer holidays
DESCRIPTION:School re-opens Wednesday 3rd September 2025
URL:https://www.girlingtonprimary.co.uk/event/summer-holidays-2/
CATEGORIES:School Holidays
END:VEVENT
END:VCALENDAR