BEGIN:VCALENDAR
VERSION:2.0
PRODID:-//Girlington Primary School - ECPv6.15.18//NONSGML v1.0//EN
CALSCALE:GREGORIAN
METHOD:PUBLISH
X-ORIGINAL-URL:https://www.girlingtonprimary.co.uk
X-WR-CALDESC:Events for Girlington Primary School
REFRESH-INTERVAL;VALUE=DURATION:PT1H
X-Robots-Tag:noindex
X-PUBLISHED-TTL:PT1H
BEGIN:VTIMEZONE
TZID:UTC
BEGIN:STANDARD
TZOFFSETFROM:+0000
TZOFFSETTO:+0000
TZNAME:UTC
DTSTART:20240101T000000
END:STANDARD
END:VTIMEZONE
BEGIN:VEVENT
DTSTART;TZID=UTC:20250402T083000
DTEND;TZID=UTC:20250402T092000
DTSTAMP:20260419T192333
CREATED:20250328T094227Z
LAST-MODIFIED:20250328T094314Z
UID:5483-1743582600-1743585600@www.girlingtonprimary.co.uk
SUMMARY:Wellbeing Café
DESCRIPTION:Come and join us for raffle prizes! \nWe will be providing information about:\n• Wake Up Wednesday and the online safety information they provide\,\n• Ways in which your children can game and chat to friends safely\,\n• The importance of routines and consistent bed times.
URL:https://www.girlingtonprimary.co.uk/event/wellbeing-cafe-4/
CATEGORIES:In School Events/Activities
END:VEVENT
BEGIN:VEVENT
DTSTART;TZID=UTC:20250403T024000
DTEND;TZID=UTC:20250403T151000
DTSTAMP:20260419T192333
CREATED:20250226T143702Z
LAST-MODIFIED:20250328T100209Z
UID:5334-1743648000-1743693000@www.girlingtonprimary.co.uk
SUMMARY:Year 6 Parents meeting
DESCRIPTION:
URL:https://www.girlingtonprimary.co.uk/event/year-4-parents-meeting-2/
CATEGORIES:In School Events/Activities
END:VEVENT
BEGIN:VEVENT
DTSTART;TZID=UTC:20250424T144500
DTEND;TZID=UTC:20250424T151500
DTSTAMP:20260419T192333
CREATED:20250424T093505Z
LAST-MODIFIED:20250424T093915Z
UID:5558-1745505900-1745507700@www.girlingtonprimary.co.uk
SUMMARY:Year 4 Parents meeting
DESCRIPTION:Multiplication Tables Check
URL:https://www.girlingtonprimary.co.uk/event/year-4-parents-meeting-3/
CATEGORIES:In School Events/Activities
END:VEVENT
END:VCALENDAR