BEGIN:VCALENDAR
VERSION:2.0
PRODID:-//Girlington Primary School - ECPv6.15.18//NONSGML v1.0//EN
CALSCALE:GREGORIAN
METHOD:PUBLISH
X-ORIGINAL-URL:https://www.girlingtonprimary.co.uk
X-WR-CALDESC:Events for Girlington Primary School
REFRESH-INTERVAL;VALUE=DURATION:PT1H
X-Robots-Tag:noindex
X-PUBLISHED-TTL:PT1H
BEGIN:VTIMEZONE
TZID:UTC
BEGIN:STANDARD
TZOFFSETFROM:+0000
TZOFFSETTO:+0000
TZNAME:UTC
DTSTART:20230101T000000
END:STANDARD
END:VTIMEZONE
BEGIN:VEVENT
DTSTART;TZID=UTC:20241216T083000
DTEND;TZID=UTC:20241216T093000
DTSTAMP:20260420T015915
CREATED:20241204T141125Z
LAST-MODIFIED:20241204T141157Z
UID:5095-1734337800-1734341400@www.girlingtonprimary.co.uk
SUMMARY:Wellbeing Café
DESCRIPTION:
URL:https://www.girlingtonprimary.co.uk/event/wellbeing-cafe-3/
CATEGORIES:In School Events/Activities
END:VEVENT
BEGIN:VEVENT
DTSTART;TZID=UTC:20241217T144000
DTEND;TZID=UTC:20241217T150000
DTSTAMP:20260420T015915
CREATED:20241204T135936Z
LAST-MODIFIED:20241204T140817Z
UID:5091-1734446400-1734447600@www.girlingtonprimary.co.uk
SUMMARY:Year 2 Parents showcase
DESCRIPTION:
URL:https://www.girlingtonprimary.co.uk/event/year-2-parent-showcase-5/
CATEGORIES:In School Events/Activities
END:VEVENT
BEGIN:VEVENT
DTSTART;TZID=UTC:20241218T113000
DTEND;TZID=UTC:20241218T133000
DTSTAMP:20260420T015915
CREATED:20241009T133004Z
LAST-MODIFIED:20241009T133004Z
UID:4707-1734521400-1734528600@www.girlingtonprimary.co.uk
SUMMARY:Christmas dinner in school
DESCRIPTION:
URL:https://www.girlingtonprimary.co.uk/event/christmas-dinner-in-school/
CATEGORIES:In School Events/Activities
END:VEVENT
BEGIN:VEVENT
DTSTART;TZID=UTC:20241219T083000
DTEND;TZID=UTC:20241219T090000
DTSTAMP:20260420T015915
CREATED:20241211T135554Z
LAST-MODIFIED:20241211T135609Z
UID:5116-1734597000-1734598800@www.girlingtonprimary.co.uk
SUMMARY:Year 3 Parents showcase
DESCRIPTION:
URL:https://www.girlingtonprimary.co.uk/event/year-3-parents-showcase-3/
CATEGORIES:In School Events/Activities
END:VEVENT
BEGIN:VEVENT
DTSTART;TZID=UTC:20241219T145000
DTEND;TZID=UTC:20241219T151000
DTSTAMP:20260420T015915
CREATED:20241211T135720Z
LAST-MODIFIED:20241211T135730Z
UID:5119-1734619800-1734621000@www.girlingtonprimary.co.uk
SUMMARY:Year 1 Music performance
DESCRIPTION:
URL:https://www.girlingtonprimary.co.uk/event/year-1-music-performance/
CATEGORIES:In School Events/Activities
END:VEVENT
END:VCALENDAR