BEGIN:VCALENDAR
VERSION:2.0
PRODID:-//Girlington Primary School - ECPv6.15.18//NONSGML v1.0//EN
CALSCALE:GREGORIAN
METHOD:PUBLISH
X-WR-CALNAME:Girlington Primary School
X-ORIGINAL-URL:https://www.girlingtonprimary.co.uk
X-WR-CALDESC:Events for Girlington Primary School
REFRESH-INTERVAL;VALUE=DURATION:PT1H
X-Robots-Tag:noindex
X-PUBLISHED-TTL:PT1H
BEGIN:VTIMEZONE
TZID:UTC
BEGIN:STANDARD
TZOFFSETFROM:+0000
TZOFFSETTO:+0000
TZNAME:UTC
DTSTART:20230101T000000
END:STANDARD
END:VTIMEZONE
BEGIN:VEVENT
DTSTART;VALUE=DATE:20240607
DTEND;VALUE=DATE:20240608
DTSTAMP:20260422T111505
CREATED:20231011T131902Z
LAST-MODIFIED:20231011T131902Z
UID:3587-1717718400-1717804799@www.girlingtonprimary.co.uk
SUMMARY:Road Safety training - Whole school
DESCRIPTION:
URL:https://www.girlingtonprimary.co.uk/event/road-safety-training-whole-school/
CATEGORIES:In School Events/Activities
END:VEVENT
BEGIN:VEVENT
DTSTART;VALUE=DATE:20240614
DTEND;VALUE=DATE:20240615
DTSTAMP:20260422T111505
CREATED:20231011T131944Z
LAST-MODIFIED:20231011T131944Z
UID:3589-1718323200-1718409599@www.girlingtonprimary.co.uk
SUMMARY:Road Safety training - Year 3
DESCRIPTION:
URL:https://www.girlingtonprimary.co.uk/event/road-safety-training-year-3/
CATEGORIES:In School Events/Activities
END:VEVENT
BEGIN:VEVENT
DTSTART;VALUE=DATE:20240624
DTEND;VALUE=DATE:20240625
DTSTAMP:20260422T111505
CREATED:20240104T101608Z
LAST-MODIFIED:20240207T135511Z
UID:3870-1719187200-1719273599@www.girlingtonprimary.co.uk
SUMMARY:Year 6 - History Day
DESCRIPTION:
URL:https://www.girlingtonprimary.co.uk/event/year-6-history-day/
CATEGORIES:In School Events/Activities
END:VEVENT
END:VCALENDAR