BEGIN:VCALENDAR
VERSION:2.0
PRODID:-//Girlington Primary School - ECPv6.15.18//NONSGML v1.0//EN
CALSCALE:GREGORIAN
METHOD:PUBLISH
X-WR-CALNAME:Girlington Primary School
X-ORIGINAL-URL:https://www.girlingtonprimary.co.uk
X-WR-CALDESC:Events for Girlington Primary School
REFRESH-INTERVAL;VALUE=DURATION:PT1H
X-Robots-Tag:noindex
X-PUBLISHED-TTL:PT1H
BEGIN:VTIMEZONE
TZID:UTC
BEGIN:STANDARD
TZOFFSETFROM:+0000
TZOFFSETTO:+0000
TZNAME:UTC
DTSTART:20230101T000000
END:STANDARD
END:VTIMEZONE
BEGIN:VEVENT
DTSTART;TZID=UTC:20240415T150000
DTEND;TZID=UTC:20240415T160000
DTSTAMP:20260422T141758
CREATED:20240306T140916Z
LAST-MODIFIED:20240306T140916Z
UID:4079-1713193200-1713196800@www.girlingtonprimary.co.uk
SUMMARY:After School Vaccination Clinic
DESCRIPTION:
URL:https://www.girlingtonprimary.co.uk/event/after-school-vaccination-clinic/
CATEGORIES:In School Events/Activities
END:VEVENT
BEGIN:VEVENT
DTSTART;TZID=UTC:20240416T151000
DTEND;TZID=UTC:20240416T153000
DTSTAMP:20260422T141758
CREATED:20240409T101721Z
LAST-MODIFIED:20240409T101721Z
UID:4149-1713280200-1713281400@www.girlingtonprimary.co.uk
SUMMARY:Year 6 SATs meeting
DESCRIPTION:
URL:https://www.girlingtonprimary.co.uk/event/year-6-sats-meeting/
CATEGORIES:In School Events/Activities
END:VEVENT
END:VCALENDAR