BEGIN:VCALENDAR
VERSION:2.0
PRODID:-//Girlington Primary School - ECPv6.15.18//NONSGML v1.0//EN
CALSCALE:GREGORIAN
METHOD:PUBLISH
X-WR-CALNAME:Girlington Primary School
X-ORIGINAL-URL:https://www.girlingtonprimary.co.uk
X-WR-CALDESC:Events for Girlington Primary School
REFRESH-INTERVAL;VALUE=DURATION:PT1H
X-Robots-Tag:noindex
X-PUBLISHED-TTL:PT1H
BEGIN:VTIMEZONE
TZID:UTC
BEGIN:STANDARD
TZOFFSETFROM:+0000
TZOFFSETTO:+0000
TZNAME:UTC
DTSTART:20230101T000000
END:STANDARD
END:VTIMEZONE
BEGIN:VEVENT
DTSTART;TZID=UTC:20240129T150000
DTEND;TZID=UTC:20240201T153000
DTSTAMP:20260422T171004
CREATED:20240104T101758Z
LAST-MODIFIED:20240104T101758Z
UID:3872-1706540400-1706801400@www.girlingtonprimary.co.uk
SUMMARY:Book Fair
DESCRIPTION:
URL:https://www.girlingtonprimary.co.uk/event/book-fair/
CATEGORIES:In School Events/Activities
END:VEVENT
BEGIN:VEVENT
DTSTART;TZID=UTC:20240201T110000
DTEND;TZID=UTC:20240201T113000
DTSTAMP:20260422T171004
CREATED:20231101T140450Z
LAST-MODIFIED:20231101T140450Z
UID:3668-1706785200-1706787000@www.girlingtonprimary.co.uk
SUMMARY:Plumber Drummer Concert
DESCRIPTION:
URL:https://www.girlingtonprimary.co.uk/event/plumber-drummer-concert/
CATEGORIES:In School Events/Activities
END:VEVENT
BEGIN:VEVENT
DTSTART;TZID=UTC:20240205T083000
DTEND;TZID=UTC:20240205T093000
DTSTAMP:20260422T171004
CREATED:20240207T135418Z
LAST-MODIFIED:20240207T135418Z
UID:3964-1707121800-1707125400@www.girlingtonprimary.co.uk
SUMMARY:Well Being Café
DESCRIPTION:
URL:https://www.girlingtonprimary.co.uk/event/well-being-cafe-2/
CATEGORIES:In School Events/Activities
END:VEVENT
BEGIN:VEVENT
DTSTART;TZID=UTC:20240205T150000
DTEND;TZID=UTC:20240205T153000
DTSTAMP:20260422T171004
CREATED:20240124T141107Z
LAST-MODIFIED:20240124T141107Z
UID:3923-1707145200-1707147000@www.girlingtonprimary.co.uk
SUMMARY:Parents Ingleborough Hall Meeting
DESCRIPTION:
URL:https://www.girlingtonprimary.co.uk/event/parents-ingleborough-hall-meeting/
CATEGORIES:In School Events/Activities
END:VEVENT
BEGIN:VEVENT
DTSTART;TZID=UTC:20240207T113000
DTEND;TZID=UTC:20240207T133000
DTSTAMP:20260422T171004
CREATED:20240124T140636Z
LAST-MODIFIED:20240124T140636Z
UID:3919-1707305400-1707312600@www.girlingtonprimary.co.uk
SUMMARY:Chinese New Year School Dinner
DESCRIPTION:Dinner Menu \nChicken Fried Rice or Halal Chicken Fried Rice \nQuorn Vegetable Fried Rice \nChipped Potatoes \nRainbow Salad \nChocolate & Mandarin Sponge with Ice Cream \nFresh Fruit
URL:https://www.girlingtonprimary.co.uk/event/chinese-new-year-school-dinner/
CATEGORIES:In School Events/Activities
END:VEVENT
BEGIN:VEVENT
DTSTART;TZID=UTC:20240208T090000
DTEND;TZID=UTC:20240208T093000
DTSTAMP:20260422T171004
CREATED:20240207T140303Z
LAST-MODIFIED:20240207T140303Z
UID:3970-1707382800-1707384600@www.girlingtonprimary.co.uk
SUMMARY:Year 3 Parents Showcase
DESCRIPTION:
URL:https://www.girlingtonprimary.co.uk/event/year-3-parents-showcase/
CATEGORIES:In School Events/Activities
END:VEVENT
BEGIN:VEVENT
DTSTART;TZID=UTC:20240208T144000
DTEND;TZID=UTC:20240208T150000
DTSTAMP:20260422T171004
CREATED:20240124T141203Z
LAST-MODIFIED:20240207T140155Z
UID:3925-1707403200-1707404400@www.girlingtonprimary.co.uk
SUMMARY:Year 1 Parents Showcase
DESCRIPTION:
URL:https://www.girlingtonprimary.co.uk/event/year-1-parents-showcase-3/
CATEGORIES:In School Events/Activities
END:VEVENT
BEGIN:VEVENT
DTSTART;TZID=UTC:20240229T150000
DTEND;TZID=UTC:20240229T153000
DTSTAMP:20260422T171004
CREATED:20240227T143802Z
LAST-MODIFIED:20240227T143802Z
UID:4029-1709218800-1709220600@www.girlingtonprimary.co.uk
SUMMARY:Help your child get ready for Year 6 SATs
DESCRIPTION:
URL:https://www.girlingtonprimary.co.uk/event/help-your-child-get-ready-for-year-6-sats/
CATEGORIES:In School Events/Activities
END:VEVENT
END:VCALENDAR