BEGIN:VCALENDAR
VERSION:2.0
PRODID:-//Girlington Primary School - ECPv6.15.18//NONSGML v1.0//EN
CALSCALE:GREGORIAN
METHOD:PUBLISH
X-WR-CALNAME:Girlington Primary School
X-ORIGINAL-URL:https://www.girlingtonprimary.co.uk
X-WR-CALDESC:Events for Girlington Primary School
REFRESH-INTERVAL;VALUE=DURATION:PT1H
X-Robots-Tag:noindex
X-PUBLISHED-TTL:PT1H
BEGIN:VTIMEZONE
TZID:UTC
BEGIN:STANDARD
TZOFFSETFROM:+0000
TZOFFSETTO:+0000
TZNAME:UTC
DTSTART:20230101T000000
END:STANDARD
END:VTIMEZONE
BEGIN:VEVENT
DTSTART;TZID=UTC:20241210T110000
DTEND;TZID=UTC:20241210T113000
DTSTAMP:20260421T155656
CREATED:20241120T150618Z
LAST-MODIFIED:20241120T150618Z
UID:5031-1733828400-1733830200@www.girlingtonprimary.co.uk
SUMMARY:Nursery - Parents showcase
DESCRIPTION:
URL:https://www.girlingtonprimary.co.uk/event/nursery-parents-showcase/
CATEGORIES:Early Years Events/Activities/Educational Visits
END:VEVENT
BEGIN:VEVENT
DTSTART;TZID=UTC:20241210T144000
DTEND;TZID=UTC:20241210T151000
DTSTAMP:20260421T155656
CREATED:20241120T150741Z
LAST-MODIFIED:20241120T151411Z
UID:5034-1733841600-1733843400@www.girlingtonprimary.co.uk
SUMMARY:Nursery - Parents showcase
DESCRIPTION:
URL:https://www.girlingtonprimary.co.uk/event/nursery-parents-showcase-2/
CATEGORIES:Early Years Events/Activities/Educational Visits
END:VEVENT
END:VCALENDAR