BEGIN:VCALENDAR
VERSION:2.0
PRODID:-//Girlington Primary School - ECPv6.15.18//NONSGML v1.0//EN
CALSCALE:GREGORIAN
METHOD:PUBLISH
X-WR-CALNAME:Girlington Primary School
X-ORIGINAL-URL:https://www.girlingtonprimary.co.uk
X-WR-CALDESC:Events for Girlington Primary School
REFRESH-INTERVAL;VALUE=DURATION:PT1H
X-Robots-Tag:noindex
X-PUBLISHED-TTL:PT1H
BEGIN:VTIMEZONE
TZID:UTC
BEGIN:STANDARD
TZOFFSETFROM:+0000
TZOFFSETTO:+0000
TZNAME:UTC
DTSTART:20230101T000000
END:STANDARD
END:VTIMEZONE
BEGIN:VEVENT
DTSTART;TZID=UTC:20241121T110000
DTEND;TZID=UTC:20241121T113000
DTSTAMP:20260421T173717
CREATED:20241120T150318Z
LAST-MODIFIED:20241120T150318Z
UID:5027-1732186800-1732188600@www.girlingtonprimary.co.uk
SUMMARY:Nursery story time session
DESCRIPTION:
URL:https://www.girlingtonprimary.co.uk/event/nursery-story-time-session/
CATEGORIES:Early Years Events/Activities/Educational Visits
END:VEVENT
BEGIN:VEVENT
DTSTART;TZID=UTC:20241121T144000
DTEND;TZID=UTC:20241121T151000
DTSTAMP:20260421T173717
CREATED:20241120T150409Z
LAST-MODIFIED:20241120T150409Z
UID:5029-1732200000-1732201800@www.girlingtonprimary.co.uk
SUMMARY:Nursery Story time session
DESCRIPTION:
URL:https://www.girlingtonprimary.co.uk/event/nursery-story-time-session-2/
CATEGORIES:Early Years Events/Activities/Educational Visits
END:VEVENT
BEGIN:VEVENT
DTSTART;TZID=UTC:20241128T143000
DTEND;TZID=UTC:20241128T151000
DTSTAMP:20260421T173717
CREATED:20241120T150053Z
LAST-MODIFIED:20241120T150053Z
UID:5024-1732804200-1732806600@www.girlingtonprimary.co.uk
SUMMARY:Reception Bedtime stories for parents
DESCRIPTION:
URL:https://www.girlingtonprimary.co.uk/event/reception-bedtime-stories-for-parents/
CATEGORIES:Early Years Events/Activities/Educational Visits
END:VEVENT
END:VCALENDAR