BEGIN:VCALENDAR
VERSION:2.0
PRODID:-//Girlington Primary School - ECPv6.15.18//NONSGML v1.0//EN
CALSCALE:GREGORIAN
METHOD:PUBLISH
X-WR-CALNAME:Girlington Primary School
X-ORIGINAL-URL:https://www.girlingtonprimary.co.uk
X-WR-CALDESC:Events for Girlington Primary School
REFRESH-INTERVAL;VALUE=DURATION:PT1H
X-Robots-Tag:noindex
X-PUBLISHED-TTL:PT1H
BEGIN:VTIMEZONE
TZID:UTC
BEGIN:STANDARD
TZOFFSETFROM:+0000
TZOFFSETTO:+0000
TZNAME:UTC
DTSTART:20230101T000000
END:STANDARD
END:VTIMEZONE
BEGIN:VEVENT
DTSTART;VALUE=DATE:20240702
DTEND;VALUE=DATE:20240703
DTSTAMP:20260421T232337
CREATED:20240417T125135Z
LAST-MODIFIED:20240417T125135Z
UID:4192-1719878400-1719964799@www.girlingtonprimary.co.uk
SUMMARY:Fluoride Varnish Team
DESCRIPTION:
URL:https://www.girlingtonprimary.co.uk/event/fluoride-varnish-team/
CATEGORIES:Early Years Events/Activities/Educational Visits
END:VEVENT
BEGIN:VEVENT
DTSTART;TZID=UTC:20240703T093000
DTEND;TZID=UTC:20240703T103000
DTSTAMP:20260421T232337
CREATED:20240626T131523Z
LAST-MODIFIED:20240626T131523Z
UID:4385-1719999000-1720002600@www.girlingtonprimary.co.uk
SUMMARY:Reception New to school - Meeting for parents
DESCRIPTION:
URL:https://www.girlingtonprimary.co.uk/event/reception-new-to-school-meeting-for-parents/
CATEGORIES:Early Years Events/Activities/Educational Visits
END:VEVENT
BEGIN:VEVENT
DTSTART;TZID=UTC:20240704T140000
DTEND;TZID=UTC:20240704T150000
DTSTAMP:20260421T232337
CREATED:20240626T131612Z
LAST-MODIFIED:20240626T131618Z
UID:4387-1720101600-1720105200@www.girlingtonprimary.co.uk
SUMMARY:Nursery to Reception  - Parents Meeting
DESCRIPTION:
URL:https://www.girlingtonprimary.co.uk/event/nursery-to-reception-parents-meeting/
CATEGORIES:Early Years Events/Activities/Educational Visits
END:VEVENT
BEGIN:VEVENT
DTSTART;TZID=UTC:20240715T143000
DTEND;TZID=UTC:20240715T150000
DTSTAMP:20260421T232337
CREATED:20240715T080129Z
LAST-MODIFIED:20240715T080129Z
UID:4524-1721053800-1721055600@www.girlingtonprimary.co.uk
SUMMARY:Reception Animal Boogie
DESCRIPTION:
URL:https://www.girlingtonprimary.co.uk/event/reception-animal-boogie/
CATEGORIES:Early Years Events/Activities/Educational Visits
END:VEVENT
BEGIN:VEVENT
DTSTART;TZID=UTC:20240718T110000
DTEND;TZID=UTC:20240718T113000
DTSTAMP:20260421T232337
CREATED:20240626T130419Z
LAST-MODIFIED:20240626T131132Z
UID:4372-1721300400-1721302200@www.girlingtonprimary.co.uk
SUMMARY:Nursery Parent Showcase
DESCRIPTION:
URL:https://www.girlingtonprimary.co.uk/event/nursery-parent-showcase-5/
CATEGORIES:Early Years Events/Activities/Educational Visits
END:VEVENT
BEGIN:VEVENT
DTSTART;TZID=UTC:20240718T143000
DTEND;TZID=UTC:20240718T150000
DTSTAMP:20260421T232337
CREATED:20240626T130458Z
LAST-MODIFIED:20240626T131157Z
UID:4374-1721313000-1721314800@www.girlingtonprimary.co.uk
SUMMARY:Nursery Parent Showcase
DESCRIPTION:
URL:https://www.girlingtonprimary.co.uk/event/nursery-parent-showcase-6/
CATEGORIES:Early Years Events/Activities/Educational Visits
END:VEVENT
END:VCALENDAR