BEGIN:VCALENDAR
VERSION:2.0
PRODID:-//Girlington Primary School - ECPv6.15.18//NONSGML v1.0//EN
CALSCALE:GREGORIAN
METHOD:PUBLISH
X-WR-CALNAME:Girlington Primary School
X-ORIGINAL-URL:https://www.girlingtonprimary.co.uk
X-WR-CALDESC:Events for Girlington Primary School
REFRESH-INTERVAL;VALUE=DURATION:PT1H
X-Robots-Tag:noindex
X-PUBLISHED-TTL:PT1H
BEGIN:VTIMEZONE
TZID:UTC
BEGIN:STANDARD
TZOFFSETFROM:+0000
TZOFFSETTO:+0000
TZNAME:UTC
DTSTART:20220101T000000
END:STANDARD
END:VTIMEZONE
BEGIN:VEVENT
DTSTART;TZID=UTC:20230509T090000
DTEND;TZID=UTC:20230509T100000
DTSTAMP:20260422T183353
CREATED:20230504T103746Z
LAST-MODIFIED:20230504T103746Z
UID:2608-1683622800-1683626400@www.girlingtonprimary.co.uk
SUMMARY:West Yorkshire Police visiting Nursery
DESCRIPTION:
URL:https://www.girlingtonprimary.co.uk/event/west-yorkshire-police-visiting-nursery/
CATEGORIES:Early Years Events/Activities/Educational Visits
END:VEVENT
BEGIN:VEVENT
DTSTART;VALUE=DATE:20230515
DTEND;VALUE=DATE:20230516
DTSTAMP:20260422T183353
CREATED:20230124T131635Z
LAST-MODIFIED:20230124T131635Z
UID:1371-1684108800-1684195199@www.girlingtonprimary.co.uk
SUMMARY:Reception classes are taking delivery of the duck eggs
DESCRIPTION:
URL:https://www.girlingtonprimary.co.uk/event/reception-classes-are-taking-delivery-of-the-duck-eggs/
CATEGORIES:Early Years Events/Activities/Educational Visits
END:VEVENT
BEGIN:VEVENT
DTSTART;VALUE=DATE:20230519
DTEND;VALUE=DATE:20230520
DTSTAMP:20260422T183353
CREATED:20230119T130906Z
LAST-MODIFIED:20230124T112411Z
UID:1217-1684454400-1684540799@www.girlingtonprimary.co.uk
SUMMARY:Reception - Trip
DESCRIPTION:Where: Thornton Hall Farm Park
URL:https://www.girlingtonprimary.co.uk/event/reception-trip/
CATEGORIES:Early Years Events/Activities/Educational Visits
END:VEVENT
BEGIN:VEVENT
DTSTART;VALUE=DATE:20230519
DTEND;VALUE=DATE:20230520
DTSTAMP:20260422T183353
CREATED:20230420T123224Z
LAST-MODIFIED:20230420T123224Z
UID:2512-1684454400-1684540799@www.girlingtonprimary.co.uk
SUMMARY:Mobile Farm visiting Early Years
DESCRIPTION:
URL:https://www.girlingtonprimary.co.uk/event/mobile-farm-visiting-early-years/
CATEGORIES:Early Years Events/Activities/Educational Visits
END:VEVENT
END:VCALENDAR