BEGIN:VCALENDAR
VERSION:2.0
PRODID:-//Girlington Primary School - ECPv6.15.18//NONSGML v1.0//EN
CALSCALE:GREGORIAN
METHOD:PUBLISH
X-WR-CALNAME:Girlington Primary School
X-ORIGINAL-URL:https://www.girlingtonprimary.co.uk
X-WR-CALDESC:Events for Girlington Primary School
REFRESH-INTERVAL;VALUE=DURATION:PT1H
X-Robots-Tag:noindex
X-PUBLISHED-TTL:PT1H
BEGIN:VTIMEZONE
TZID:UTC
BEGIN:STANDARD
TZOFFSETFROM:+0000
TZOFFSETTO:+0000
TZNAME:UTC
DTSTART:20220101T000000
END:STANDARD
END:VTIMEZONE
BEGIN:VEVENT
DTSTART;VALUE=DATE:20230317
DTEND;VALUE=DATE:20230318
DTSTAMP:20260422T212140
CREATED:20230308T144140Z
LAST-MODIFIED:20230308T144140Z
UID:1901-1679011200-1679097599@www.girlingtonprimary.co.uk
SUMMARY:Comic Relief Day
DESCRIPTION:
URL:https://www.girlingtonprimary.co.uk/event/comic-relief-day/
CATEGORIES:Early Years Events/Activities/Educational Visits,In School Events/Activities
END:VEVENT
BEGIN:VEVENT
DTSTART;TZID=UTC:20230321T111500
DTEND;TZID=UTC:20230321T114500
DTSTAMP:20260422T212140
CREATED:20230209T112058Z
LAST-MODIFIED:20230209T112058Z
UID:1613-1679397300-1679399100@www.girlingtonprimary.co.uk
SUMMARY:Parent story session - Nursery
DESCRIPTION:
URL:https://www.girlingtonprimary.co.uk/event/parent-story-session-nursery/
CATEGORIES:Early Years Events/Activities/Educational Visits
END:VEVENT
BEGIN:VEVENT
DTSTART;TZID=UTC:20230321T144000
DTEND;TZID=UTC:20230321T151000
DTSTAMP:20260422T212140
CREATED:20230209T112156Z
LAST-MODIFIED:20230209T112224Z
UID:1615-1679409600-1679411400@www.girlingtonprimary.co.uk
SUMMARY:Parent story session - Nursery
DESCRIPTION:
URL:https://www.girlingtonprimary.co.uk/event/parent-story-session-nursery-2/
CATEGORIES:Early Years Events/Activities/Educational Visits
END:VEVENT
BEGIN:VEVENT
DTSTART;TZID=UTC:20230328T111500
DTEND;TZID=UTC:20230328T121500
DTSTAMP:20260422T212140
CREATED:20230125T145221Z
LAST-MODIFIED:20230209T112523Z
UID:1454-1680002100-1680005700@www.girlingtonprimary.co.uk
SUMMARY:Nursery AM Parent Showcase
DESCRIPTION:
URL:https://www.girlingtonprimary.co.uk/event/nursery-am-parent-showcase/
CATEGORIES:Early Years Events/Activities/Educational Visits
END:VEVENT
BEGIN:VEVENT
DTSTART;TZID=UTC:20230328T144000
DTEND;TZID=UTC:20230328T151000
DTSTAMP:20260422T212140
CREATED:20230209T112326Z
LAST-MODIFIED:20230209T112401Z
UID:1618-1680014400-1680016200@www.girlingtonprimary.co.uk
SUMMARY:Nursery PM  - Parent showcase
DESCRIPTION:
URL:https://www.girlingtonprimary.co.uk/event/nursery-am-parent-showcase-2/
CATEGORIES:Early Years Events/Activities/Educational Visits
END:VEVENT
BEGIN:VEVENT
DTSTART;VALUE=DATE:20230331
DTEND;VALUE=DATE:20230401
DTSTAMP:20260422T212140
CREATED:20230308T144107Z
LAST-MODIFIED:20230308T144107Z
UID:1899-1680220800-1680307199@www.girlingtonprimary.co.uk
SUMMARY:Fluride Varnish Team
DESCRIPTION:
URL:https://www.girlingtonprimary.co.uk/event/fluride-varnish-team/
CATEGORIES:Early Years Events/Activities/Educational Visits
END:VEVENT
END:VCALENDAR