BEGIN:VCALENDAR
VERSION:2.0
PRODID:-//Girlington Primary School - ECPv6.15.18//NONSGML v1.0//EN
CALSCALE:GREGORIAN
METHOD:PUBLISH
X-WR-CALNAME:Girlington Primary School
X-ORIGINAL-URL:https://www.girlingtonprimary.co.uk
X-WR-CALDESC:Events for Girlington Primary School
REFRESH-INTERVAL;VALUE=DURATION:PT1H
X-Robots-Tag:noindex
X-PUBLISHED-TTL:PT1H
BEGIN:VTIMEZONE
TZID:UTC
BEGIN:STANDARD
TZOFFSETFROM:+0000
TZOFFSETTO:+0000
TZNAME:UTC
DTSTART:20220101T000000
END:STANDARD
END:VTIMEZONE
BEGIN:VEVENT
DTSTART;TZID=UTC:20231023T120000
DTEND;TZID=UTC:20231023T150000
DTSTAMP:20260424T161423
CREATED:20231019T095424Z
LAST-MODIFIED:20231019T095424Z
UID:3623-1698062400-1698073200@www.girlingtonprimary.co.uk
SUMMARY:Fun Day - Girlington Community Centre
DESCRIPTION:Come and join in at the Family Fun day \nThere will be: \n\nGames\nFree Activities\nPrizes etc
URL:https://www.girlingtonprimary.co.uk/event/fun-day-girlington-community-centre/
CATEGORIES:Community Events
END:VEVENT
END:VCALENDAR