BEGIN:VCALENDAR
VERSION:2.0
PRODID:-//Girlington Primary School - ECPv6.15.18//NONSGML v1.0//EN
CALSCALE:GREGORIAN
METHOD:PUBLISH
X-ORIGINAL-URL:https://www.girlingtonprimary.co.uk
X-WR-CALDESC:Events for Girlington Primary School
REFRESH-INTERVAL;VALUE=DURATION:PT1H
X-Robots-Tag:noindex
X-PUBLISHED-TTL:PT1H
BEGIN:VTIMEZONE
TZID:UTC
BEGIN:STANDARD
TZOFFSETFROM:+0000
TZOFFSETTO:+0000
TZNAME:UTC
DTSTART:20220101T000000
END:STANDARD
END:VTIMEZONE
BEGIN:VEVENT
DTSTART;VALUE=DATE:20230701
DTEND;VALUE=DATE:20230703
DTSTAMP:20260424T202814
CREATED:20230523T093205Z
LAST-MODIFIED:20230523T093205Z
UID:2874-1688169600-1688342399@www.girlingtonprimary.co.uk
SUMMARY:Bradford Literature Festival
DESCRIPTION:Free Family Fun Days\nJoin in the adventure at BLF’s Literature Unlocked:\nFree Family Fun Days. See you at City Park\, Bradford\nfor live performances\, storytelling\, arts and crafts for all ages.
URL:https://www.girlingtonprimary.co.uk/event/bradford-literature-festival-2/
CATEGORIES:Community Events
END:VEVENT
BEGIN:VEVENT
DTSTART;VALUE=DATE:20230724
DTEND;VALUE=DATE:20230902
DTSTAMP:20260424T202814
CREATED:20230705T154250Z
LAST-MODIFIED:20230705T154250Z
UID:3144-1690156800-1693612799@www.girlingtonprimary.co.uk
SUMMARY:Summer 2023 holiday activities
DESCRIPTION:24th July – 1st September \nArchery \nClimbing Wall \nPond dipping \nBushcraft \nand lots more
URL:https://www.girlingtonprimary.co.uk/event/summer-2023-holiday-activities/
CATEGORIES:Community Events
END:VEVENT
END:VCALENDAR